BEGIN:VCALENDAR
VERSION:2.0
PRODID:-//Tl&#039;azt&#039;en Nation - ECPv6.15.14//NONSGML v1.0//EN
CALSCALE:GREGORIAN
METHOD:PUBLISH
X-ORIGINAL-URL:https://tlaztennation.ca
X-WR-CALDESC:Events for Tl&#039;azt&#039;en Nation
REFRESH-INTERVAL;VALUE=DURATION:PT1H
X-Robots-Tag:noindex
X-PUBLISHED-TTL:PT1H
BEGIN:VTIMEZONE
TZID:America/Vancouver
BEGIN:DAYLIGHT
TZOFFSETFROM:-0800
TZOFFSETTO:-0700
TZNAME:PDT
DTSTART:20210314T100000
END:DAYLIGHT
BEGIN:STANDARD
TZOFFSETFROM:-0700
TZOFFSETTO:-0800
TZNAME:PST
DTSTART:20211107T090000
END:STANDARD
BEGIN:DAYLIGHT
TZOFFSETFROM:-0800
TZOFFSETTO:-0700
TZNAME:PDT
DTSTART:20220313T100000
END:DAYLIGHT
BEGIN:STANDARD
TZOFFSETFROM:-0700
TZOFFSETTO:-0800
TZNAME:PST
DTSTART:20221106T090000
END:STANDARD
BEGIN:DAYLIGHT
TZOFFSETFROM:-0800
TZOFFSETTO:-0700
TZNAME:PDT
DTSTART:20230312T100000
END:DAYLIGHT
BEGIN:STANDARD
TZOFFSETFROM:-0700
TZOFFSETTO:-0800
TZNAME:PST
DTSTART:20231105T090000
END:STANDARD
END:VTIMEZONE
BEGIN:VEVENT
DTSTART;VALUE=DATE:20221014
DTEND;VALUE=DATE:20221015
DTSTAMP:20260423T063442
CREATED:20220921T161410Z
LAST-MODIFIED:20221007T220838Z
UID:18188-1665705600-1665791999@tlaztennation.ca
SUMMARY:Chief and Council
DESCRIPTION:
URL:https://tlaztennation.ca/event/chief-and-council-3/
LOCATION:Administration Boardroom
END:VEVENT
BEGIN:VEVENT
DTSTART;TZID=America/Vancouver:20221014T120000
DTEND;TZID=America/Vancouver:20221014T170000
DTSTAMP:20260423T063442
CREATED:20221003T203618Z
LAST-MODIFIED:20221003T203618Z
UID:18325-1665748800-1665766800@tlaztennation.ca
SUMMARY:Winter Clothing Drive
DESCRIPTION:EJJ clothing drive
URL:https://tlaztennation.ca/event/winter-clothing-drive/
LOCATION:Eugene Joseph Gym
END:VEVENT
END:VCALENDAR