BEGIN:VCALENDAR
VERSION:2.0
PRODID:-//Tl&#039;azt&#039;en Nation - ECPv6.15.14//NONSGML v1.0//EN
CALSCALE:GREGORIAN
METHOD:PUBLISH
X-ORIGINAL-URL:https://tlaztennation.ca
X-WR-CALDESC:Events for Tl&#039;azt&#039;en Nation
REFRESH-INTERVAL;VALUE=DURATION:PT1H
X-Robots-Tag:noindex
X-PUBLISHED-TTL:PT1H
BEGIN:VTIMEZONE
TZID:America/Vancouver
BEGIN:DAYLIGHT
TZOFFSETFROM:-0800
TZOFFSETTO:-0700
TZNAME:PDT
DTSTART:20220313T100000
END:DAYLIGHT
BEGIN:STANDARD
TZOFFSETFROM:-0700
TZOFFSETTO:-0800
TZNAME:PST
DTSTART:20221106T090000
END:STANDARD
BEGIN:DAYLIGHT
TZOFFSETFROM:-0800
TZOFFSETTO:-0700
TZNAME:PDT
DTSTART:20230312T100000
END:DAYLIGHT
BEGIN:STANDARD
TZOFFSETFROM:-0700
TZOFFSETTO:-0800
TZNAME:PST
DTSTART:20231105T090000
END:STANDARD
BEGIN:DAYLIGHT
TZOFFSETFROM:-0800
TZOFFSETTO:-0700
TZNAME:PDT
DTSTART:20240310T100000
END:DAYLIGHT
BEGIN:STANDARD
TZOFFSETFROM:-0700
TZOFFSETTO:-0800
TZNAME:PST
DTSTART:20241103T090000
END:STANDARD
END:VTIMEZONE
BEGIN:VEVENT
DTSTART;TZID=America/Vancouver:20230208T080000
DTEND;TZID=America/Vancouver:20230317T160000
DTSTAMP:20260423T030106
CREATED:20230130T163811Z
LAST-MODIFIED:20230130T163811Z
UID:18573-1675843200-1679068800@tlaztennation.ca
SUMMARY:Bladerunners 2nd Cohort
DESCRIPTION:6 Positions \nAges 15-30 \nIf you are interested\, register with Rebecca Pierre: \nphone:250-648-3227 \nemail:employment.coordinator@tlazten.bc.ca
URL:https://tlaztennation.ca/event/bladerunners-2nd-cohort/
LOCATION:Ed Centre
END:VEVENT
BEGIN:VEVENT
DTSTART;TZID=America/Vancouver:20230213T080000
DTEND;TZID=America/Vancouver:20230217T170000
DTSTAMP:20260423T030106
CREATED:20230213T182725Z
LAST-MODIFIED:20230213T182941Z
UID:18648-1676275200-1676653200@tlaztennation.ca
SUMMARY:Second Annual Headstart Cultural Fest
DESCRIPTION:Elder Storytelling\nSnowshoeing\nIce Fishing\nTrapping and Much More\n\nFor more inför contact Roberta or Diane 250-648-3201
URL:https://tlaztennation.ca/event/second-annual-headstart-cultural-fest/
LOCATION:EJES
END:VEVENT
END:VCALENDAR