BEGIN:VCALENDAR
VERSION:2.0
PRODID:-//Tl&#039;azt&#039;en Nation - ECPv6.15.14//NONSGML v1.0//EN
CALSCALE:GREGORIAN
METHOD:PUBLISH
X-ORIGINAL-URL:https://tlaztennation.ca
X-WR-CALDESC:Events for Tl&#039;azt&#039;en Nation
REFRESH-INTERVAL;VALUE=DURATION:PT1H
X-Robots-Tag:noindex
X-PUBLISHED-TTL:PT1H
BEGIN:VTIMEZONE
TZID:America/Vancouver
BEGIN:DAYLIGHT
TZOFFSETFROM:-0800
TZOFFSETTO:-0700
TZNAME:PDT
DTSTART:20220313T100000
END:DAYLIGHT
BEGIN:STANDARD
TZOFFSETFROM:-0700
TZOFFSETTO:-0800
TZNAME:PST
DTSTART:20221106T090000
END:STANDARD
BEGIN:DAYLIGHT
TZOFFSETFROM:-0800
TZOFFSETTO:-0700
TZNAME:PDT
DTSTART:20230312T100000
END:DAYLIGHT
BEGIN:STANDARD
TZOFFSETFROM:-0700
TZOFFSETTO:-0800
TZNAME:PST
DTSTART:20231105T090000
END:STANDARD
BEGIN:DAYLIGHT
TZOFFSETFROM:-0800
TZOFFSETTO:-0700
TZNAME:PDT
DTSTART:20240310T100000
END:DAYLIGHT
BEGIN:STANDARD
TZOFFSETFROM:-0700
TZOFFSETTO:-0800
TZNAME:PST
DTSTART:20241103T090000
END:STANDARD
END:VTIMEZONE
BEGIN:VEVENT
DTSTART;TZID=America/Vancouver:20230704T080000
DTEND;TZID=America/Vancouver:20230712T170000
DTSTAMP:20260422T195920
CREATED:20230629T204204Z
LAST-MODIFIED:20230629T204204Z
UID:18830-1688457600-1689181200@tlaztennation.ca
SUMMARY:Wildland Fire Training
DESCRIPTION:S100 – Basic Fire Suppression \nS185 – Fire Entrapment Avoidance \nS211 – Fireline Communications \nS213 – Use of bulldozers and heavy equipment \nS230 – Single Resource Leader/intor to supervision \nS232 – Portable Pumps and Water Delivery Systems \nS235 – Ignition Operations \nS241 – Fire Assessment \nICS 100 – Incident Command System 100 \nICS 200 – Incident Command System 200
URL:https://tlaztennation.ca/event/wildland-fire-training/
END:VEVENT
BEGIN:VEVENT
DTSTART;TZID=America/Vancouver:20230710T080000
DTEND;TZID=America/Vancouver:20230711T170000
DTSTAMP:20260422T195920
CREATED:20230208T211400Z
LAST-MODIFIED:20230629T223152Z
UID:18617-1688976000-1689094800@tlaztennation.ca
SUMMARY:Chief and Council
DESCRIPTION:
URL:https://tlaztennation.ca/event/chief-and-council-17/
LOCATION:Administration Boardroom
END:VEVENT
BEGIN:VEVENT
DTSTART;TZID=America/Vancouver:20230710T080000
DTEND;TZID=America/Vancouver:20230712T170000
DTSTAMP:20260422T195920
CREATED:20230208T211511Z
LAST-MODIFIED:20230629T203521Z
UID:18619-1688976000-1689181200@tlaztennation.ca
SUMMARY:Tl’azt’en Nation 2023 AGA
DESCRIPTION:
URL:https://tlaztennation.ca/event/tlazten-nation-2023-aga/
LOCATION:Eugene Joseph Gym
END:VEVENT
END:VCALENDAR