BEGIN:VCALENDAR
VERSION:2.0
PRODID:-//Tl&#039;azt&#039;en Nation - ECPv6.15.14//NONSGML v1.0//EN
CALSCALE:GREGORIAN
METHOD:PUBLISH
X-ORIGINAL-URL:https://tlaztennation.ca
X-WR-CALDESC:Events for Tl&#039;azt&#039;en Nation
REFRESH-INTERVAL;VALUE=DURATION:PT1H
X-Robots-Tag:noindex
X-PUBLISHED-TTL:PT1H
BEGIN:VTIMEZONE
TZID:America/Vancouver
BEGIN:DAYLIGHT
TZOFFSETFROM:-0800
TZOFFSETTO:-0700
TZNAME:PDT
DTSTART:20220313T100000
END:DAYLIGHT
BEGIN:STANDARD
TZOFFSETFROM:-0700
TZOFFSETTO:-0800
TZNAME:PST
DTSTART:20221106T090000
END:STANDARD
BEGIN:DAYLIGHT
TZOFFSETFROM:-0800
TZOFFSETTO:-0700
TZNAME:PDT
DTSTART:20230312T100000
END:DAYLIGHT
BEGIN:STANDARD
TZOFFSETFROM:-0700
TZOFFSETTO:-0800
TZNAME:PST
DTSTART:20231105T090000
END:STANDARD
BEGIN:DAYLIGHT
TZOFFSETFROM:-0800
TZOFFSETTO:-0700
TZNAME:PDT
DTSTART:20240310T100000
END:DAYLIGHT
BEGIN:STANDARD
TZOFFSETFROM:-0700
TZOFFSETTO:-0800
TZNAME:PST
DTSTART:20241103T090000
END:STANDARD
END:VTIMEZONE
BEGIN:VEVENT
DTSTART;VALUE=DATE:20230901
DTEND;VALUE=DATE:20230902
DTSTAMP:20260422T173233
CREATED:20220921T155743Z
LAST-MODIFIED:20220921T160239Z
UID:18181-1693526400-1693612799@tlaztennation.ca
SUMMARY:Post-secondary - January Intake Deadline
DESCRIPTION:Post-secondary Application Deadline\nPost-Secondary Application Process Information 2022 \nPost-Secondary Application 2022 \n\n\n\n\nSubmitting by Email?\nPost-Secondary Coordinator \ne-mail: georgina.alexis@tlazten.bc.ca \n\n\nSubmit your application by email or mail.\n\n\n\n\nPlease ensure you have completed the entire application and submit your application to the Post-Secondary Coordinator. We require complete applications to ensure a timely approval. Incomplete submissions can impact the turnaround time and deadlines of your educational institution/program.
URL:https://tlaztennation.ca/event/post-secondary-january-intake-deadline/
END:VEVENT
END:VCALENDAR