BEGIN:VCALENDAR
VERSION:2.0
PRODID:-//Tl&#039;azt&#039;en Nation - ECPv6.15.14//NONSGML v1.0//EN
CALSCALE:GREGORIAN
METHOD:PUBLISH
X-WR-CALNAME:Tl&#039;azt&#039;en Nation
X-ORIGINAL-URL:https://tlaztennation.ca
X-WR-CALDESC:Events for Tl&#039;azt&#039;en Nation
REFRESH-INTERVAL;VALUE=DURATION:PT1H
X-Robots-Tag:noindex
X-PUBLISHED-TTL:PT1H
BEGIN:VTIMEZONE
TZID:America/Vancouver
BEGIN:DAYLIGHT
TZOFFSETFROM:-0800
TZOFFSETTO:-0700
TZNAME:PDT
DTSTART:20220313T100000
END:DAYLIGHT
BEGIN:STANDARD
TZOFFSETFROM:-0700
TZOFFSETTO:-0800
TZNAME:PST
DTSTART:20221106T090000
END:STANDARD
BEGIN:DAYLIGHT
TZOFFSETFROM:-0800
TZOFFSETTO:-0700
TZNAME:PDT
DTSTART:20230312T100000
END:DAYLIGHT
BEGIN:STANDARD
TZOFFSETFROM:-0700
TZOFFSETTO:-0800
TZNAME:PST
DTSTART:20231105T090000
END:STANDARD
BEGIN:DAYLIGHT
TZOFFSETFROM:-0800
TZOFFSETTO:-0700
TZNAME:PDT
DTSTART:20240310T100000
END:DAYLIGHT
BEGIN:STANDARD
TZOFFSETFROM:-0700
TZOFFSETTO:-0800
TZNAME:PST
DTSTART:20241103T090000
END:STANDARD
END:VTIMEZONE
BEGIN:VEVENT
DTSTART;TZID=America/Vancouver:20231221T120000
DTEND;TZID=America/Vancouver:20231222T160000
DTSTAMP:20260422T135251
CREATED:20231201T192311Z
LAST-MODIFIED:20231201T192619Z
UID:19363-1703160000-1703260800@tlaztennation.ca
SUMMARY:All Offices Closed
DESCRIPTION:
URL:https://tlaztennation.ca/event/offices-closed-3/
END:VEVENT
BEGIN:VEVENT
DTSTART;TZID=America/Vancouver:20231222T080000
DTEND;TZID=America/Vancouver:20231222T170000
DTSTAMP:20260422T135251
CREATED:20231120T224622Z
LAST-MODIFIED:20231120T224643Z
UID:19284-1703232000-1703264400@tlaztennation.ca
SUMMARY:Last Day of School
DESCRIPTION:Last Day of School before Christmas Break
URL:https://tlaztennation.ca/event/last-day-of-school/
LOCATION:EJES
END:VEVENT
END:VCALENDAR