BEGIN:VCALENDAR
VERSION:2.0
PRODID:-//Tl&#039;azt&#039;en Nation - ECPv6.15.14//NONSGML v1.0//EN
CALSCALE:GREGORIAN
METHOD:PUBLISH
X-WR-CALNAME:Tl&#039;azt&#039;en Nation
X-ORIGINAL-URL:https://tlaztennation.ca
X-WR-CALDESC:Events for Tl&#039;azt&#039;en Nation
REFRESH-INTERVAL;VALUE=DURATION:PT1H
X-Robots-Tag:noindex
X-PUBLISHED-TTL:PT1H
BEGIN:VTIMEZONE
TZID:America/Vancouver
BEGIN:DAYLIGHT
TZOFFSETFROM:-0800
TZOFFSETTO:-0700
TZNAME:PDT
DTSTART:20230312T100000
END:DAYLIGHT
BEGIN:STANDARD
TZOFFSETFROM:-0700
TZOFFSETTO:-0800
TZNAME:PST
DTSTART:20231105T090000
END:STANDARD
BEGIN:DAYLIGHT
TZOFFSETFROM:-0800
TZOFFSETTO:-0700
TZNAME:PDT
DTSTART:20240310T100000
END:DAYLIGHT
BEGIN:STANDARD
TZOFFSETFROM:-0700
TZOFFSETTO:-0800
TZNAME:PST
DTSTART:20241103T090000
END:STANDARD
BEGIN:DAYLIGHT
TZOFFSETFROM:-0800
TZOFFSETTO:-0700
TZNAME:PDT
DTSTART:20250309T100000
END:DAYLIGHT
BEGIN:STANDARD
TZOFFSETFROM:-0700
TZOFFSETTO:-0800
TZNAME:PST
DTSTART:20251102T090000
END:STANDARD
END:VTIMEZONE
BEGIN:VEVENT
DTSTART;TZID=America/Vancouver:20240725T080000
DTEND;TZID=America/Vancouver:20240806T200000
DTSTAMP:20260422T012217
CREATED:20240723T184353Z
LAST-MODIFIED:20240723T184353Z
UID:19862-1721894400-1722974400@tlaztennation.ca
SUMMARY:Online Voting
DESCRIPTION:
URL:https://tlaztennation.ca/event/online-voting/
END:VEVENT
BEGIN:VEVENT
DTSTART;TZID=America/Vancouver:20240726T100000
DTEND;TZID=America/Vancouver:20240726T120000
DTSTAMP:20260422T012217
CREATED:20240723T184529Z
LAST-MODIFIED:20240723T184623Z
UID:19864-1721988000-1721995200@tlaztennation.ca
SUMMARY:Community Breakfast
DESCRIPTION:
URL:https://tlaztennation.ca/event/community-breakfast/
END:VEVENT
BEGIN:VEVENT
DTSTART;TZID=America/Vancouver:20240726T103000
DTEND;TZID=America/Vancouver:20240726T120000
DTSTAMP:20260422T012217
CREATED:20240726T171746Z
LAST-MODIFIED:20240726T171746Z
UID:19901-1721989800-1721995200@tlaztennation.ca
SUMMARY:Rock Painting - Youth and Children Summer Activities
DESCRIPTION:
URL:https://tlaztennation.ca/event/rock-painting-youth-and-children-summer-activities/
LOCATION:Ed Centre
END:VEVENT
BEGIN:VEVENT
DTSTART;TZID=America/Vancouver:20240726T133000
DTEND;TZID=America/Vancouver:20240726T150000
DTSTAMP:20260422T012217
CREATED:20240726T172120Z
LAST-MODIFIED:20240726T172129Z
UID:19907-1722000600-1722006000@tlaztennation.ca
SUMMARY:Family Movie Night
DESCRIPTION:
URL:https://tlaztennation.ca/event/family-movie-night/
LOCATION:Eugene Joseph Gym
END:VEVENT
END:VCALENDAR