BEGIN:VCALENDAR
VERSION:2.0
PRODID:-//Tl&#039;azt&#039;en Nation - ECPv6.15.14//NONSGML v1.0//EN
CALSCALE:GREGORIAN
METHOD:PUBLISH
X-WR-CALNAME:Tl&#039;azt&#039;en Nation
X-ORIGINAL-URL:https://tlaztennation.ca
X-WR-CALDESC:Events for Tl&#039;azt&#039;en Nation
REFRESH-INTERVAL;VALUE=DURATION:PT1H
X-Robots-Tag:noindex
X-PUBLISHED-TTL:PT1H
BEGIN:VTIMEZONE
TZID:America/Vancouver
BEGIN:DAYLIGHT
TZOFFSETFROM:-0800
TZOFFSETTO:-0700
TZNAME:PDT
DTSTART:20230312T100000
END:DAYLIGHT
BEGIN:STANDARD
TZOFFSETFROM:-0700
TZOFFSETTO:-0800
TZNAME:PST
DTSTART:20231105T090000
END:STANDARD
BEGIN:DAYLIGHT
TZOFFSETFROM:-0800
TZOFFSETTO:-0700
TZNAME:PDT
DTSTART:20240310T100000
END:DAYLIGHT
BEGIN:STANDARD
TZOFFSETFROM:-0700
TZOFFSETTO:-0800
TZNAME:PST
DTSTART:20241103T090000
END:STANDARD
BEGIN:DAYLIGHT
TZOFFSETFROM:-0800
TZOFFSETTO:-0700
TZNAME:PDT
DTSTART:20250309T100000
END:DAYLIGHT
BEGIN:STANDARD
TZOFFSETFROM:-0700
TZOFFSETTO:-0800
TZNAME:PST
DTSTART:20251102T090000
END:STANDARD
END:VTIMEZONE
BEGIN:VEVENT
DTSTART;TZID=America/Vancouver:20240729T080000
DTEND;TZID=America/Vancouver:20240929T170000
DTSTAMP:20260420T045119
CREATED:20240726T171528Z
LAST-MODIFIED:20240726T183403Z
UID:19898-1722240000-1727629200@tlaztennation.ca
SUMMARY:School Supply Support
DESCRIPTION:
URL:https://tlaztennation.ca/event/school-supply-support/
END:VEVENT
BEGIN:VEVENT
DTSTART;TZID=America/Vancouver:20240806T080000
DTEND;TZID=America/Vancouver:20240809T170000
DTSTAMP:20260420T045119
CREATED:20240725T212956Z
LAST-MODIFIED:20240725T213018Z
UID:19890-1722931200-1723222800@tlaztennation.ca
SUMMARY:Grief and Loss Workshops
DESCRIPTION:
URL:https://tlaztennation.ca/event/grief-and-lose/
END:VEVENT
BEGIN:VEVENT
DTSTART;TZID=America/Vancouver:20240807T080000
DTEND;TZID=America/Vancouver:20240807T200000
DTSTAMP:20260420T045119
CREATED:20240723T184242Z
LAST-MODIFIED:20240723T184242Z
UID:19858-1723017600-1723060800@tlaztennation.ca
SUMMARY:2024 Election
DESCRIPTION:
URL:https://tlaztennation.ca/event/2024-election/
END:VEVENT
BEGIN:VEVENT
DTSTART;TZID=America/Vancouver:20240807T080000
DTEND;TZID=America/Vancouver:20240809T170000
DTSTAMP:20260420T045119
CREATED:20240723T184814Z
LAST-MODIFIED:20240723T184814Z
UID:19868-1723017600-1723222800@tlaztennation.ca
SUMMARY:Mother Daughter Summer Camp
DESCRIPTION:
URL:https://tlaztennation.ca/event/mother-daughter-summer-camp/
END:VEVENT
END:VCALENDAR