BEGIN:VCALENDAR
VERSION:2.0
PRODID:-//Tl&#039;azt&#039;en Nation - ECPv6.15.14//NONSGML v1.0//EN
CALSCALE:GREGORIAN
METHOD:PUBLISH
X-WR-CALNAME:Tl&#039;azt&#039;en Nation
X-ORIGINAL-URL:https://tlaztennation.ca
X-WR-CALDESC:Events for Tl&#039;azt&#039;en Nation
REFRESH-INTERVAL;VALUE=DURATION:PT1H
X-Robots-Tag:noindex
X-PUBLISHED-TTL:PT1H
BEGIN:VTIMEZONE
TZID:America/Vancouver
BEGIN:DAYLIGHT
TZOFFSETFROM:-0800
TZOFFSETTO:-0700
TZNAME:PDT
DTSTART:20230312T100000
END:DAYLIGHT
BEGIN:STANDARD
TZOFFSETFROM:-0700
TZOFFSETTO:-0800
TZNAME:PST
DTSTART:20231105T090000
END:STANDARD
BEGIN:DAYLIGHT
TZOFFSETFROM:-0800
TZOFFSETTO:-0700
TZNAME:PDT
DTSTART:20240310T100000
END:DAYLIGHT
BEGIN:STANDARD
TZOFFSETFROM:-0700
TZOFFSETTO:-0800
TZNAME:PST
DTSTART:20241103T090000
END:STANDARD
BEGIN:DAYLIGHT
TZOFFSETFROM:-0800
TZOFFSETTO:-0700
TZNAME:PDT
DTSTART:20250309T100000
END:DAYLIGHT
BEGIN:STANDARD
TZOFFSETFROM:-0700
TZOFFSETTO:-0800
TZNAME:PST
DTSTART:20251102T090000
END:STANDARD
END:VTIMEZONE
BEGIN:VEVENT
DTSTART;TZID=America/Vancouver:20240729T080000
DTEND;TZID=America/Vancouver:20240929T170000
DTSTAMP:20260422T012215
CREATED:20240726T171528Z
LAST-MODIFIED:20240726T183403Z
UID:19898-1722240000-1727629200@tlaztennation.ca
SUMMARY:School Supply Support
DESCRIPTION:
URL:https://tlaztennation.ca/event/school-supply-support/
END:VEVENT
BEGIN:VEVENT
DTSTART;TZID=America/Vancouver:20240917T080000
DTEND;TZID=America/Vancouver:20240918T120000
DTSTAMP:20260422T012215
CREATED:20240723T185517Z
LAST-MODIFIED:20240926T172001Z
UID:19880-1726560000-1726660800@tlaztennation.ca
SUMMARY:38th Annual General Assembly
DESCRIPTION:
URL:https://tlaztennation.ca/event/39th-annual-general-assembly/
END:VEVENT
END:VCALENDAR