BEGIN:VCALENDAR
VERSION:2.0
PRODID:-//Tl&#039;azt&#039;en Nation - ECPv6.15.14//NONSGML v1.0//EN
CALSCALE:GREGORIAN
METHOD:PUBLISH
X-WR-CALNAME:Tl&#039;azt&#039;en Nation
X-ORIGINAL-URL:https://tlaztennation.ca
X-WR-CALDESC:Events for Tl&#039;azt&#039;en Nation
REFRESH-INTERVAL;VALUE=DURATION:PT1H
X-Robots-Tag:noindex
X-PUBLISHED-TTL:PT1H
BEGIN:VTIMEZONE
TZID:America/Vancouver
BEGIN:DAYLIGHT
TZOFFSETFROM:-0800
TZOFFSETTO:-0700
TZNAME:PDT
DTSTART:20210314T100000
END:DAYLIGHT
BEGIN:STANDARD
TZOFFSETFROM:-0700
TZOFFSETTO:-0800
TZNAME:PST
DTSTART:20211107T090000
END:STANDARD
BEGIN:DAYLIGHT
TZOFFSETFROM:-0800
TZOFFSETTO:-0700
TZNAME:PDT
DTSTART:20220313T100000
END:DAYLIGHT
BEGIN:STANDARD
TZOFFSETFROM:-0700
TZOFFSETTO:-0800
TZNAME:PST
DTSTART:20221106T090000
END:STANDARD
BEGIN:DAYLIGHT
TZOFFSETFROM:-0800
TZOFFSETTO:-0700
TZNAME:PDT
DTSTART:20230312T100000
END:DAYLIGHT
BEGIN:STANDARD
TZOFFSETFROM:-0700
TZOFFSETTO:-0800
TZNAME:PST
DTSTART:20231105T090000
END:STANDARD
BEGIN:DAYLIGHT
TZOFFSETFROM:-0800
TZOFFSETTO:-0700
TZNAME:PDT
DTSTART:20240310T100000
END:DAYLIGHT
BEGIN:STANDARD
TZOFFSETFROM:-0700
TZOFFSETTO:-0800
TZNAME:PST
DTSTART:20241103T090000
END:STANDARD
BEGIN:DAYLIGHT
TZOFFSETFROM:-0800
TZOFFSETTO:-0700
TZNAME:PDT
DTSTART:20250309T100000
END:DAYLIGHT
BEGIN:STANDARD
TZOFFSETFROM:-0700
TZOFFSETTO:-0800
TZNAME:PST
DTSTART:20251102T090000
END:STANDARD
END:VTIMEZONE
BEGIN:VEVENT
DTSTART;VALUE=DATE:20240701
DTEND;VALUE=DATE:20240702
DTSTAMP:20260420T021915
CREATED:20240626T210330Z
LAST-MODIFIED:20240626T210330Z
UID:19782-1719792000-1719878399@tlaztennation.ca
SUMMARY:Canada Day
DESCRIPTION:Offices Closed
URL:https://tlaztennation.ca/event/canada-day/
CATEGORIES:National Holiday
END:VEVENT
BEGIN:VEVENT
DTSTART;VALUE=DATE:20240401
DTEND;VALUE=DATE:20240402
DTSTAMP:20260420T021915
CREATED:20240320T212039Z
LAST-MODIFIED:20240320T212039Z
UID:19578-1711929600-1712015999@tlaztennation.ca
SUMMARY:Easter Monday
DESCRIPTION:
URL:https://tlaztennation.ca/event/easter-monday-2/
CATEGORIES:National Holiday
END:VEVENT
BEGIN:VEVENT
DTSTART;VALUE=DATE:20240329
DTEND;VALUE=DATE:20240330
DTSTAMP:20260420T021915
CREATED:20240320T212011Z
LAST-MODIFIED:20240320T212011Z
UID:19576-1711670400-1711756799@tlaztennation.ca
SUMMARY:Good Friday
DESCRIPTION:
URL:https://tlaztennation.ca/event/good-friday-2/
CATEGORIES:National Holiday
END:VEVENT
BEGIN:VEVENT
DTSTART;VALUE=DATE:20230410
DTEND;VALUE=DATE:20230411
DTSTAMP:20260420T021915
CREATED:20230322T154234Z
LAST-MODIFIED:20230322T154234Z
UID:18754-1681084800-1681171199@tlaztennation.ca
SUMMARY:Easter Monday
DESCRIPTION:Offices are Closed
URL:https://tlaztennation.ca/event/easter-monday/
CATEGORIES:National Holiday
END:VEVENT
BEGIN:VEVENT
DTSTART;VALUE=DATE:20230407
DTEND;VALUE=DATE:20230408
DTSTAMP:20260420T021915
CREATED:20230322T154202Z
LAST-MODIFIED:20230322T154202Z
UID:18752-1680825600-1680911999@tlaztennation.ca
SUMMARY:Good Friday
DESCRIPTION:Offices are closed
URL:https://tlaztennation.ca/event/good-friday/
CATEGORIES:National Holiday
END:VEVENT
BEGIN:VEVENT
DTSTART;VALUE=DATE:20221111
DTEND;VALUE=DATE:20221112
DTSTAMP:20260420T021915
CREATED:20220916T160950Z
LAST-MODIFIED:20220916T161128Z
UID:18114-1668124800-1668211199@tlaztennation.ca
SUMMARY:Remembrance Day
DESCRIPTION:
URL:https://tlaztennation.ca/event/remembrance-day/
CATEGORIES:National Holiday
END:VEVENT
BEGIN:VEVENT
DTSTART;VALUE=DATE:20221010
DTEND;VALUE=DATE:20221011
DTSTAMP:20260420T021915
CREATED:20220915T225345Z
LAST-MODIFIED:20220915T225621Z
UID:18097-1665360000-1665446399@tlaztennation.ca
SUMMARY:Thanksgiving
DESCRIPTION:All offices closed
URL:https://tlaztennation.ca/event/thanksgiving/
CATEGORIES:National Holiday
END:VEVENT
BEGIN:VEVENT
DTSTART;TZID=America/Vancouver:20220930T150000
DTEND;TZID=America/Vancouver:20220930T200000
DTSTAMP:20260420T021915
CREATED:20220927T002251Z
LAST-MODIFIED:20220927T002251Z
UID:18249-1664550000-1664568000@tlaztennation.ca
SUMMARY:Tl'azt'en - Truth and Reconciliation Day Community Event
DESCRIPTION:3PM\n\nActivities\n\n\n5PM\n\nDayi (Chief) Leslie Aslin – Remarks\nElder – Prayer\nCommunity Dinner\n\n\n6PM\n\nOpen Mic – Survivors Speak\n\n\n7PM\n\nBonfire\, Drumming and Singing\n\n\n8PM\n\nFireworks
URL:https://tlaztennation.ca/event/tlazten-truth-and-reconciliation-day-community-event/
LOCATION:EJES
CATEGORIES:National Holiday
END:VEVENT
BEGIN:VEVENT
DTSTART;VALUE=DATE:20220930
DTEND;VALUE=DATE:20221001
DTSTAMP:20260420T021915
CREATED:20220915T224600Z
LAST-MODIFIED:20220915T225458Z
UID:18083-1664496000-1664582399@tlaztennation.ca
SUMMARY:National Day for Truth and Reconciliation
DESCRIPTION:All offices closed for the day
URL:https://tlaztennation.ca/event/national-day-for-truth-and-reconciliation/
CATEGORIES:National Holiday
END:VEVENT
BEGIN:VEVENT
DTSTART;VALUE=DATE:20220919
DTEND;VALUE=DATE:20220920
DTSTAMP:20260420T021915
CREATED:20220915T224750Z
LAST-MODIFIED:20220915T225458Z
UID:18086-1663545600-1663631999@tlaztennation.ca
SUMMARY:National Holiday
DESCRIPTION:All offices closed
URL:https://tlaztennation.ca/event/national-holiday/
CATEGORIES:National Holiday
END:VEVENT
END:VCALENDAR