BEGIN:VCALENDAR
VERSION:2.0
PRODID:-//Tl&#039;azt&#039;en Nation - ECPv6.15.14//NONSGML v1.0//EN
CALSCALE:GREGORIAN
METHOD:PUBLISH
X-WR-CALNAME:Tl&#039;azt&#039;en Nation
X-ORIGINAL-URL:https://tlaztennation.ca
X-WR-CALDESC:Events for Tl&#039;azt&#039;en Nation
REFRESH-INTERVAL;VALUE=DURATION:PT1H
X-Robots-Tag:noindex
X-PUBLISHED-TTL:PT1H
BEGIN:VTIMEZONE
TZID:America/Vancouver
BEGIN:DAYLIGHT
TZOFFSETFROM:-0800
TZOFFSETTO:-0700
TZNAME:PDT
DTSTART:20210314T100000
END:DAYLIGHT
BEGIN:STANDARD
TZOFFSETFROM:-0700
TZOFFSETTO:-0800
TZNAME:PST
DTSTART:20211107T090000
END:STANDARD
BEGIN:DAYLIGHT
TZOFFSETFROM:-0800
TZOFFSETTO:-0700
TZNAME:PDT
DTSTART:20220313T100000
END:DAYLIGHT
BEGIN:STANDARD
TZOFFSETFROM:-0700
TZOFFSETTO:-0800
TZNAME:PST
DTSTART:20221106T090000
END:STANDARD
BEGIN:DAYLIGHT
TZOFFSETFROM:-0800
TZOFFSETTO:-0700
TZNAME:PDT
DTSTART:20230312T100000
END:DAYLIGHT
BEGIN:STANDARD
TZOFFSETFROM:-0700
TZOFFSETTO:-0800
TZNAME:PST
DTSTART:20231105T090000
END:STANDARD
END:VTIMEZONE
BEGIN:VEVENT
DTSTART;TZID=America/Vancouver:20221004T080000
DTEND;TZID=America/Vancouver:20221007T160000
DTSTAMP:20260423T062121
CREATED:20220915T225011Z
LAST-MODIFIED:20220915T230116Z
UID:18088-1664870400-1665158400@tlaztennation.ca
SUMMARY:Trauma Informed Care & Healing
DESCRIPTION:
URL:https://tlaztennation.ca/event/trauma-informed-care-healing/
LOCATION:Eugene Joseph Gym
END:VEVENT
BEGIN:VEVENT
DTSTART;VALUE=DATE:20221007
DTEND;VALUE=DATE:20221008
DTSTAMP:20260423T062121
CREATED:20220921T154628Z
LAST-MODIFIED:20220921T154654Z
UID:18175-1665100800-1665187199@tlaztennation.ca
SUMMARY:Logo Contest Deadline - National Addictions Awareness Week
DESCRIPTION:Submissions to Graham Sampson nnadap@tlazten.bc.ca
URL:https://tlaztennation.ca/event/national-addictions-awareness-week-logo-contest-deadline/
LOCATION:Health Centre
END:VEVENT
BEGIN:VEVENT
DTSTART;VALUE=DATE:20221010
DTEND;VALUE=DATE:20221011
DTSTAMP:20260423T062121
CREATED:20220915T225345Z
LAST-MODIFIED:20220915T225621Z
UID:18097-1665360000-1665446399@tlaztennation.ca
SUMMARY:Thanksgiving
DESCRIPTION:All offices closed
URL:https://tlaztennation.ca/event/thanksgiving/
CATEGORIES:National Holiday
END:VEVENT
BEGIN:VEVENT
DTSTART;VALUE=DATE:20221014
DTEND;VALUE=DATE:20221015
DTSTAMP:20260423T062121
CREATED:20220921T161410Z
LAST-MODIFIED:20221007T220838Z
UID:18188-1665705600-1665791999@tlaztennation.ca
SUMMARY:Chief and Council
DESCRIPTION:
URL:https://tlaztennation.ca/event/chief-and-council-3/
LOCATION:Administration Boardroom
END:VEVENT
BEGIN:VEVENT
DTSTART;TZID=America/Vancouver:20221014T120000
DTEND;TZID=America/Vancouver:20221014T170000
DTSTAMP:20260423T062121
CREATED:20221003T203618Z
LAST-MODIFIED:20221003T203618Z
UID:18325-1665748800-1665766800@tlaztennation.ca
SUMMARY:Winter Clothing Drive
DESCRIPTION:EJJ clothing drive
URL:https://tlaztennation.ca/event/winter-clothing-drive/
LOCATION:Eugene Joseph Gym
END:VEVENT
BEGIN:VEVENT
DTSTART;VALUE=DATE:20221018
DTEND;VALUE=DATE:20221019
DTSTAMP:20260423T062121
CREATED:20220923T222341Z
LAST-MODIFIED:20221007T220724Z
UID:18237-1666051200-1666137599@tlaztennation.ca
SUMMARY:AGA - Social Development - Bill C-92
DESCRIPTION:
URL:https://tlaztennation.ca/event/aga-social-development-bill-c-92/
LOCATION:Eugene Joseph Gym
END:VEVENT
BEGIN:VEVENT
DTSTART;VALUE=DATE:20221024
DTEND;VALUE=DATE:20221025
DTSTAMP:20260423T062121
CREATED:20220921T161442Z
LAST-MODIFIED:20220921T161442Z
UID:18191-1666569600-1666655999@tlaztennation.ca
SUMMARY:Chief and Council
DESCRIPTION:
URL:https://tlaztennation.ca/event/chief-and-council-4/
LOCATION:Administration Boardroom
END:VEVENT
BEGIN:VEVENT
DTSTART;TZID=America/Vancouver:20221025T080000
DTEND;TZID=America/Vancouver:20221025T170000
DTSTAMP:20260423T062121
CREATED:20220916T170818Z
LAST-MODIFIED:20220916T170818Z
UID:18126-1666684800-1666717200@tlaztennation.ca
SUMMARY:Education Advisory Committee
DESCRIPTION:
URL:https://tlaztennation.ca/event/education-advisory-committee-2/
LOCATION:Ed Centre
END:VEVENT
END:VCALENDAR