BEGIN:VCALENDAR
VERSION:2.0
PRODID:-//Tl&#039;azt&#039;en Nation - ECPv6.15.14//NONSGML v1.0//EN
CALSCALE:GREGORIAN
METHOD:PUBLISH
X-WR-CALNAME:Tl&#039;azt&#039;en Nation
X-ORIGINAL-URL:https://tlaztennation.ca
X-WR-CALDESC:Events for Tl&#039;azt&#039;en Nation
REFRESH-INTERVAL;VALUE=DURATION:PT1H
X-Robots-Tag:noindex
X-PUBLISHED-TTL:PT1H
BEGIN:VTIMEZONE
TZID:America/Vancouver
BEGIN:DAYLIGHT
TZOFFSETFROM:-0800
TZOFFSETTO:-0700
TZNAME:PDT
DTSTART:20210314T100000
END:DAYLIGHT
BEGIN:STANDARD
TZOFFSETFROM:-0700
TZOFFSETTO:-0800
TZNAME:PST
DTSTART:20211107T090000
END:STANDARD
BEGIN:DAYLIGHT
TZOFFSETFROM:-0800
TZOFFSETTO:-0700
TZNAME:PDT
DTSTART:20220313T100000
END:DAYLIGHT
BEGIN:STANDARD
TZOFFSETFROM:-0700
TZOFFSETTO:-0800
TZNAME:PST
DTSTART:20221106T090000
END:STANDARD
BEGIN:DAYLIGHT
TZOFFSETFROM:-0800
TZOFFSETTO:-0700
TZNAME:PDT
DTSTART:20230312T100000
END:DAYLIGHT
BEGIN:STANDARD
TZOFFSETFROM:-0700
TZOFFSETTO:-0800
TZNAME:PST
DTSTART:20231105T090000
END:STANDARD
END:VTIMEZONE
BEGIN:VEVENT
DTSTART;TZID=America/Vancouver:20221205T080000
DTEND;TZID=America/Vancouver:20221206T170000
DTSTAMP:20260423T041004
CREATED:20221102T204451Z
LAST-MODIFIED:20221102T204451Z
UID:18380-1670227200-1670346000@tlaztennation.ca
SUMMARY:Building Service Worker Program
DESCRIPTION:Contact Rebecca Pierre \nemployment.coordinator@tlazten.bc.ca \n1-250-648-3227
URL:https://tlaztennation.ca/event/building-service-worker-program-2/
LOCATION:Ed Centre
END:VEVENT
BEGIN:VEVENT
DTSTART;TZID=America/Vancouver:20221205T090000
DTEND;TZID=America/Vancouver:20221205T170000
DTSTAMP:20260423T041004
CREATED:20221206T231951Z
LAST-MODIFIED:20221206T231951Z
UID:18472-1670230800-1670259600@tlaztennation.ca
SUMMARY:Chief and Council
DESCRIPTION:
URL:https://tlaztennation.ca/event/chief-and-council/
END:VEVENT
BEGIN:VEVENT
DTSTART;TZID=America/Vancouver:20221206T163000
DTEND;TZID=America/Vancouver:20221206T200000
DTSTAMP:20260423T041004
CREATED:20221206T232155Z
LAST-MODIFIED:20221206T232212Z
UID:18474-1670344200-1670356800@tlaztennation.ca
SUMMARY:Family Fair - Bingo
DESCRIPTION:Adult Bingo EJS – 6-8PM \nYouth Bingo Ed Centre 6-8PM \nKids Bingo Elder Centre 4:30-6PM
URL:https://tlaztennation.ca/event/family-fair/
END:VEVENT
BEGIN:VEVENT
DTSTART;TZID=America/Vancouver:20221207T090000
DTEND;TZID=America/Vancouver:20221207T120000
DTSTAMP:20260423T041004
CREATED:20221102T203118Z
LAST-MODIFIED:20221102T203118Z
UID:18371-1670403600-1670414400@tlaztennation.ca
SUMMARY:Children's Oral Health
DESCRIPTION:
URL:https://tlaztennation.ca/event/childrens-oral-health-2/
LOCATION:Health Centre
END:VEVENT
BEGIN:VEVENT
DTSTART;TZID=America/Vancouver:20221207T130000
DTEND;TZID=America/Vancouver:20221207T150000
DTSTAMP:20260423T041004
CREATED:20221206T232445Z
LAST-MODIFIED:20221206T232824Z
UID:18477-1670418000-1670425200@tlaztennation.ca
SUMMARY:Family Fair - Craft Day
DESCRIPTION:EJS Gym from 1-3P \nCookie Decorating \nWreath & Tree Decorating \nSnow Globe \nFish Pond \nBannock Making \nCake Walk \nSanta Photos Decorating \nTree \nHockey Shoot \nSnowshoe Race \nSled Race \nChristmas Toss \nGift Wrapping \nElders Story Telling \nOrnament \n 
URL:https://tlaztennation.ca/event/family-fair-craft-day/
END:VEVENT
BEGIN:VEVENT
DTSTART;TZID=America/Vancouver:20221208T150000
DTEND;TZID=America/Vancouver:20221208T190000
DTSTAMP:20260423T041004
CREATED:20221206T232620Z
LAST-MODIFIED:20221206T232638Z
UID:18479-1670511600-1670526000@tlaztennation.ca
SUMMARY:Family Fair - Community Dinner and Dance
DESCRIPTION:EJS GYM 3-7PM
URL:https://tlaztennation.ca/event/family-fair-community-dinner-and-dance/
END:VEVENT
BEGIN:VEVENT
DTSTART;TZID=America/Vancouver:20221212T080000
DTEND;TZID=America/Vancouver:20221212T170000
DTSTAMP:20260423T041004
CREATED:20221206T231055Z
LAST-MODIFIED:20221206T231055Z
UID:18469-1670832000-1670864400@tlaztennation.ca
SUMMARY:Christmas Hampers
DESCRIPTION:Social Development
URL:https://tlaztennation.ca/event/christmas-hampers/
END:VEVENT
BEGIN:VEVENT
DTSTART;TZID=America/Vancouver:20221214T090000
DTEND;TZID=America/Vancouver:20221214T120000
DTSTAMP:20260423T041004
CREATED:20221102T204655Z
LAST-MODIFIED:20221102T204655Z
UID:18384-1671008400-1671019200@tlaztennation.ca
SUMMARY:Children's Oral Health
DESCRIPTION:
URL:https://tlaztennation.ca/event/childrens-oral-health-5/
LOCATION:EJES
END:VEVENT
BEGIN:VEVENT
DTSTART;VALUE=DATE:20221216
DTEND;VALUE=DATE:20221217
DTSTAMP:20260423T041004
CREATED:20221206T214534Z
LAST-MODIFIED:20221206T214534Z
UID:18462-1671148800-1671235199@tlaztennation.ca
SUMMARY:All Offices Closed
DESCRIPTION:
URL:https://tlaztennation.ca/event/all-offices-closed/
END:VEVENT
BEGIN:VEVENT
DTSTART;TZID=America/Vancouver:20221219T080000
DTEND;TZID=America/Vancouver:20221223T170000
DTSTAMP:20260423T041004
CREATED:20221206T214615Z
LAST-MODIFIED:20221206T214913Z
UID:18460-1671436800-1671814800@tlaztennation.ca
SUMMARY:Offices Closed
DESCRIPTION:
URL:https://tlaztennation.ca/event/offices-closed/
END:VEVENT
BEGIN:VEVENT
DTSTART;VALUE=DATE:20221226
DTEND;VALUE=DATE:20221227
DTSTAMP:20260423T041004
CREATED:20220921T161213Z
LAST-MODIFIED:20220921T161213Z
UID:18186-1672012800-1672099199@tlaztennation.ca
SUMMARY:Boxing Day
DESCRIPTION:
URL:https://tlaztennation.ca/event/boxing-day/
END:VEVENT
BEGIN:VEVENT
DTSTART;TZID=America/Vancouver:20221226T080000
DTEND;TZID=America/Vancouver:20221230T170000
DTSTAMP:20260423T041004
CREATED:20221206T214700Z
LAST-MODIFIED:20221206T214700Z
UID:18464-1672041600-1672419600@tlaztennation.ca
SUMMARY:Offices Closed
DESCRIPTION:
URL:https://tlaztennation.ca/event/offices-closed-2/
END:VEVENT
END:VCALENDAR