BEGIN:VCALENDAR
VERSION:2.0
PRODID:-//Tl&#039;azt&#039;en Nation - ECPv6.15.14//NONSGML v1.0//EN
CALSCALE:GREGORIAN
METHOD:PUBLISH
X-WR-CALNAME:Tl&#039;azt&#039;en Nation
X-ORIGINAL-URL:https://tlaztennation.ca
X-WR-CALDESC:Events for Tl&#039;azt&#039;en Nation
REFRESH-INTERVAL;VALUE=DURATION:PT1H
X-Robots-Tag:noindex
X-PUBLISHED-TTL:PT1H
BEGIN:VTIMEZONE
TZID:America/Vancouver
BEGIN:DAYLIGHT
TZOFFSETFROM:-0800
TZOFFSETTO:-0700
TZNAME:PDT
DTSTART:20220313T100000
END:DAYLIGHT
BEGIN:STANDARD
TZOFFSETFROM:-0700
TZOFFSETTO:-0800
TZNAME:PST
DTSTART:20221106T090000
END:STANDARD
BEGIN:DAYLIGHT
TZOFFSETFROM:-0800
TZOFFSETTO:-0700
TZNAME:PDT
DTSTART:20230312T100000
END:DAYLIGHT
BEGIN:STANDARD
TZOFFSETFROM:-0700
TZOFFSETTO:-0800
TZNAME:PST
DTSTART:20231105T090000
END:STANDARD
BEGIN:DAYLIGHT
TZOFFSETFROM:-0800
TZOFFSETTO:-0700
TZNAME:PDT
DTSTART:20240310T100000
END:DAYLIGHT
BEGIN:STANDARD
TZOFFSETFROM:-0700
TZOFFSETTO:-0800
TZNAME:PST
DTSTART:20241103T090000
END:STANDARD
END:VTIMEZONE
BEGIN:VEVENT
DTSTART;TZID=America/Vancouver:20230403T080000
DTEND;TZID=America/Vancouver:20230404T170000
DTSTAMP:20260422T220952
CREATED:20230208T210806Z
LAST-MODIFIED:20230208T210806Z
UID:18605-1680508800-1680627600@tlaztennation.ca
SUMMARY:Chief and Council
DESCRIPTION:
URL:https://tlaztennation.ca/event/chief-and-council-11/
LOCATION:Administration Boardroom
END:VEVENT
BEGIN:VEVENT
DTSTART;VALUE=DATE:20230407
DTEND;VALUE=DATE:20230408
DTSTAMP:20260422T220952
CREATED:20230322T154202Z
LAST-MODIFIED:20230322T154202Z
UID:18752-1680825600-1680911999@tlaztennation.ca
SUMMARY:Good Friday
DESCRIPTION:Offices are closed
URL:https://tlaztennation.ca/event/good-friday/
CATEGORIES:National Holiday
END:VEVENT
BEGIN:VEVENT
DTSTART;VALUE=DATE:20230410
DTEND;VALUE=DATE:20230411
DTSTAMP:20260422T220952
CREATED:20230322T154234Z
LAST-MODIFIED:20230322T154234Z
UID:18754-1681084800-1681171199@tlaztennation.ca
SUMMARY:Easter Monday
DESCRIPTION:Offices are Closed
URL:https://tlaztennation.ca/event/easter-monday/
CATEGORIES:National Holiday
END:VEVENT
BEGIN:VEVENT
DTSTART;VALUE=DATE:20230414
DTEND;VALUE=DATE:20230415
DTSTAMP:20260422T220952
CREATED:20230316T154116Z
LAST-MODIFIED:20230316T154604Z
UID:18733-1681430400-1681516799@tlaztennation.ca
SUMMARY:MMIW - Logo Contest
DESCRIPTION:
URL:https://tlaztennation.ca/event/mmiw-logo-contest/
END:VEVENT
BEGIN:VEVENT
DTSTART;TZID=America/Vancouver:20230418T170000
DTEND;TZID=America/Vancouver:20230419T200000
DTSTAMP:20260422T220952
CREATED:20230310T213557Z
LAST-MODIFIED:20230329T160106Z
UID:18714-1681837200-1681934400@tlaztennation.ca
SUMMARY:Election Code - Zoom Community Engagement
DESCRIPTION:
URL:https://tlaztennation.ca/event/election-code-zoom-community-engagement/
END:VEVENT
BEGIN:VEVENT
DTSTART;TZID=America/Vancouver:20230419T100000
DTEND;TZID=America/Vancouver:20230419T150000
DTSTAMP:20260422T220952
CREATED:20230308T162633Z
LAST-MODIFIED:20230308T162838Z
UID:18707-1681898400-1681916400@tlaztennation.ca
SUMMARY:Job Fair - Career Expo
DESCRIPTION:  \nContact the Education Staff for more Information 1-250-648-3227
URL:https://tlaztennation.ca/event/job-fair-career-expo/
LOCATION:Eugene Joseph Gym
END:VEVENT
BEGIN:VEVENT
DTSTART;TZID=America/Vancouver:20230424T080000
DTEND;TZID=America/Vancouver:20230424T170000
DTSTAMP:20260422T220952
CREATED:20230208T210906Z
LAST-MODIFIED:20230208T210906Z
UID:18607-1682323200-1682355600@tlaztennation.ca
SUMMARY:Chief and Council
DESCRIPTION:
URL:https://tlaztennation.ca/event/chief-and-council-12/
LOCATION:Administration Boardroom
END:VEVENT
BEGIN:VEVENT
DTSTART;TZID=America/Vancouver:20230424T120000
DTEND;TZID=America/Vancouver:20230425T160000
DTSTAMP:20260422T220952
CREATED:20230310T213557Z
LAST-MODIFIED:20230329T155312Z
UID:18712-1682337600-1682438400@tlaztennation.ca
SUMMARY:Election Code - In-person Community Engagement
DESCRIPTION:
URL:https://tlaztennation.ca/event/election-code-in-person-community-engagement/
LOCATION:Eugene Joseph Gym
END:VEVENT
END:VCALENDAR