BEGIN:VCALENDAR
VERSION:2.0
PRODID:-//Tl&#039;azt&#039;en Nation - ECPv6.15.14//NONSGML v1.0//EN
CALSCALE:GREGORIAN
METHOD:PUBLISH
X-ORIGINAL-URL:https://tlaztennation.ca
X-WR-CALDESC:Events for Tl&#039;azt&#039;en Nation
REFRESH-INTERVAL;VALUE=DURATION:PT1H
X-Robots-Tag:noindex
X-PUBLISHED-TTL:PT1H
BEGIN:VTIMEZONE
TZID:America/Vancouver
BEGIN:DAYLIGHT
TZOFFSETFROM:-0800
TZOFFSETTO:-0700
TZNAME:PDT
DTSTART:20220313T100000
END:DAYLIGHT
BEGIN:STANDARD
TZOFFSETFROM:-0700
TZOFFSETTO:-0800
TZNAME:PST
DTSTART:20221106T090000
END:STANDARD
BEGIN:DAYLIGHT
TZOFFSETFROM:-0800
TZOFFSETTO:-0700
TZNAME:PDT
DTSTART:20230312T100000
END:DAYLIGHT
BEGIN:STANDARD
TZOFFSETFROM:-0700
TZOFFSETTO:-0800
TZNAME:PST
DTSTART:20231105T090000
END:STANDARD
BEGIN:DAYLIGHT
TZOFFSETFROM:-0800
TZOFFSETTO:-0700
TZNAME:PDT
DTSTART:20240310T100000
END:DAYLIGHT
BEGIN:STANDARD
TZOFFSETFROM:-0700
TZOFFSETTO:-0800
TZNAME:PST
DTSTART:20241103T090000
END:STANDARD
END:VTIMEZONE
BEGIN:VEVENT
DTSTART;VALUE=DATE:20230501
DTEND;VALUE=DATE:20230502
DTSTAMP:20260422T211201
CREATED:20220921T155601Z
LAST-MODIFIED:20220921T160323Z
UID:18179-1682899200-1682985599@tlaztennation.ca
SUMMARY:Post-secondary - September Intake Deadline
DESCRIPTION:Post-secondary Application Deadline\nPost-Secondary Application Process Information 2022 \nPost-Secondary Application 2022 \n\n\n\n\nSubmitting by Email?\nPost-Secondary Coordinator \ne-mail: georgina.alexis@tlazten.bc.ca \n\n\nSubmit your application by email or mail.\n\n\n\n\nPlease ensure you have completed the entire application and submit your application to the Post-Secondary Coordinator. We require complete applications to ensure a timely approval. Incomplete submissions can impact the turnaround time and deadlines of your educational institution/program.
URL:https://tlaztennation.ca/event/post-secondary-september-intake-deadline/
LOCATION:Ed Centre
END:VEVENT
BEGIN:VEVENT
DTSTART;TZID=America/Vancouver:20230508T080000
DTEND;TZID=America/Vancouver:20230509T170000
DTSTAMP:20260422T211201
CREATED:20230208T210954Z
LAST-MODIFIED:20230208T210954Z
UID:18609-1683532800-1683651600@tlaztennation.ca
SUMMARY:Chief and Council
DESCRIPTION:
URL:https://tlaztennation.ca/event/chief-and-council-13/
LOCATION:Administration Boardroom
END:VEVENT
BEGIN:VEVENT
DTSTART;TZID=America/Vancouver:20230514T080000
DTEND;TZID=America/Vancouver:20230514T170000
DTSTAMP:20260422T211201
CREATED:20230510T223431Z
LAST-MODIFIED:20230510T223431Z
UID:18788-1684051200-1684083600@tlaztennation.ca
SUMMARY:Mothers Day Breakfast and Bingo
DESCRIPTION:
URL:https://tlaztennation.ca/event/mothers-day-breakfast-and-bingo/
LOCATION:Eugene Joseph Gym
END:VEVENT
BEGIN:VEVENT
DTSTART;TZID=America/Vancouver:20230524T100000
DTEND;TZID=America/Vancouver:20230525T150000
DTSTAMP:20260422T211201
CREATED:20230512T180345Z
LAST-MODIFIED:20230512T180345Z
UID:18794-1684922400-1685026800@tlaztennation.ca
SUMMARY:Tl’azt’en Health Fair
DESCRIPTION:
URL:https://tlaztennation.ca/event/tlazten-health-fair/
LOCATION:Eugene Joseph Gym
END:VEVENT
BEGIN:VEVENT
DTSTART;TZID=America/Vancouver:20230529T080000
DTEND;TZID=America/Vancouver:20230529T170000
DTSTAMP:20260422T211201
CREATED:20230208T211051Z
LAST-MODIFIED:20230208T211051Z
UID:18611-1685347200-1685379600@tlaztennation.ca
SUMMARY:Chief and Council
DESCRIPTION:
URL:https://tlaztennation.ca/event/chief-and-council-14/
LOCATION:Administration Boardroom
END:VEVENT
BEGIN:VEVENT
DTSTART;TZID=America/Vancouver:20230529T080000
DTEND;TZID=America/Vancouver:20230529T170000
DTSTAMP:20260422T211201
CREATED:20230510T223249Z
LAST-MODIFIED:20230510T223519Z
UID:18785-1685347200-1685379600@tlaztennation.ca
SUMMARY:Band Members Meeting
DESCRIPTION:
URL:https://tlaztennation.ca/event/band-members-meeting-3/
LOCATION:Eugene Joseph Gym
END:VEVENT
END:VCALENDAR