BEGIN:VCALENDAR
VERSION:2.0
PRODID:-//Tl&#039;azt&#039;en Nation - ECPv6.15.14//NONSGML v1.0//EN
CALSCALE:GREGORIAN
METHOD:PUBLISH
X-ORIGINAL-URL:https://tlaztennation.ca
X-WR-CALDESC:Events for Tl&#039;azt&#039;en Nation
REFRESH-INTERVAL;VALUE=DURATION:PT1H
X-Robots-Tag:noindex
X-PUBLISHED-TTL:PT1H
BEGIN:VTIMEZONE
TZID:America/Vancouver
BEGIN:DAYLIGHT
TZOFFSETFROM:-0800
TZOFFSETTO:-0700
TZNAME:PDT
DTSTART:20220313T100000
END:DAYLIGHT
BEGIN:STANDARD
TZOFFSETFROM:-0700
TZOFFSETTO:-0800
TZNAME:PST
DTSTART:20221106T090000
END:STANDARD
BEGIN:DAYLIGHT
TZOFFSETFROM:-0800
TZOFFSETTO:-0700
TZNAME:PDT
DTSTART:20230312T100000
END:DAYLIGHT
BEGIN:STANDARD
TZOFFSETFROM:-0700
TZOFFSETTO:-0800
TZNAME:PST
DTSTART:20231105T090000
END:STANDARD
BEGIN:DAYLIGHT
TZOFFSETFROM:-0800
TZOFFSETTO:-0700
TZNAME:PDT
DTSTART:20240310T100000
END:DAYLIGHT
BEGIN:STANDARD
TZOFFSETFROM:-0700
TZOFFSETTO:-0800
TZNAME:PST
DTSTART:20241103T090000
END:STANDARD
END:VTIMEZONE
BEGIN:VEVENT
DTSTART;TZID=America/Vancouver:20231002T080000
DTEND;TZID=America/Vancouver:20231003T170000
DTSTAMP:20260422T150537
CREATED:20230208T211719Z
LAST-MODIFIED:20230208T211719Z
UID:18625-1696233600-1696352400@tlaztennation.ca
SUMMARY:Chief and Council
DESCRIPTION:
URL:https://tlaztennation.ca/event/chief-and-council-20/
LOCATION:Administration Boardroom
END:VEVENT
BEGIN:VEVENT
DTSTART;TZID=America/Vancouver:20231005T080000
DTEND;TZID=America/Vancouver:20231005T200000
DTSTAMP:20260422T150537
CREATED:20230920T172803Z
LAST-MODIFIED:20230920T172803Z
UID:18997-1696492800-1696536000@tlaztennation.ca
SUMMARY:By-election Day
DESCRIPTION:
URL:https://tlaztennation.ca/event/by-election-day/
END:VEVENT
BEGIN:VEVENT
DTSTART;TZID=America/Vancouver:20231016T120000
DTEND;TZID=America/Vancouver:20231016T140000
DTSTAMP:20260422T150537
CREATED:20230926T173003Z
LAST-MODIFIED:20230926T173654Z
UID:19149-1697457600-1697464800@tlaztennation.ca
SUMMARY:Richmond - Membership Engagement
DESCRIPTION:
URL:https://tlaztennation.ca/event/vancouver-membership-engagement/
LOCATION:Holiday Inn Vancouver Airport\, 10720\, Richmond\, British Columbia\, V6X1K8\, Canada
END:VEVENT
BEGIN:VEVENT
DTSTART;TZID=America/Vancouver:20231030T080000
DTEND;TZID=America/Vancouver:20231030T170000
DTSTAMP:20260422T150537
CREATED:20230208T211820Z
LAST-MODIFIED:20230208T211820Z
UID:18628-1698652800-1698685200@tlaztennation.ca
SUMMARY:Chief and Council
DESCRIPTION:
URL:https://tlaztennation.ca/event/chief-and-council-21/
LOCATION:Administration Boardroom
END:VEVENT
BEGIN:VEVENT
DTSTART;TZID=America/Vancouver:20231031T163000
DTEND;TZID=America/Vancouver:20231031T183000
DTSTAMP:20260422T150537
CREATED:20231026T185056Z
LAST-MODIFIED:20231026T185138Z
UID:19203-1698769800-1698777000@tlaztennation.ca
SUMMARY:Youth and Elders Culture Nights
DESCRIPTION:
URL:https://tlaztennation.ca/event/youth-and-elders-culture-nights/
LOCATION:Utsoo Ooyoh
END:VEVENT
BEGIN:VEVENT
DTSTART;TZID=America/Vancouver:20231031T180000
DTEND;TZID=America/Vancouver:20231031T210000
DTSTAMP:20260422T150537
CREATED:20231026T184459Z
LAST-MODIFIED:20231026T184739Z
UID:19199-1698775200-1698786000@tlaztennation.ca
SUMMARY:Halloween Dance - EJES Gym
DESCRIPTION:
URL:https://tlaztennation.ca/event/halloween-dance-ejes-gym/
LOCATION:Eugene Joseph Gym
END:VEVENT
END:VCALENDAR