BEGIN:VCALENDAR
VERSION:2.0
PRODID:-//Tl&#039;azt&#039;en Nation - ECPv6.15.14//NONSGML v1.0//EN
CALSCALE:GREGORIAN
METHOD:PUBLISH
X-WR-CALNAME:Tl&#039;azt&#039;en Nation
X-ORIGINAL-URL:https://tlaztennation.ca
X-WR-CALDESC:Events for Tl&#039;azt&#039;en Nation
REFRESH-INTERVAL;VALUE=DURATION:PT1H
X-Robots-Tag:noindex
X-PUBLISHED-TTL:PT1H
BEGIN:VTIMEZONE
TZID:America/Vancouver
BEGIN:DAYLIGHT
TZOFFSETFROM:-0800
TZOFFSETTO:-0700
TZNAME:PDT
DTSTART:20220313T100000
END:DAYLIGHT
BEGIN:STANDARD
TZOFFSETFROM:-0700
TZOFFSETTO:-0800
TZNAME:PST
DTSTART:20221106T090000
END:STANDARD
BEGIN:DAYLIGHT
TZOFFSETFROM:-0800
TZOFFSETTO:-0700
TZNAME:PDT
DTSTART:20230312T100000
END:DAYLIGHT
BEGIN:STANDARD
TZOFFSETFROM:-0700
TZOFFSETTO:-0800
TZNAME:PST
DTSTART:20231105T090000
END:STANDARD
BEGIN:DAYLIGHT
TZOFFSETFROM:-0800
TZOFFSETTO:-0700
TZNAME:PDT
DTSTART:20240310T100000
END:DAYLIGHT
BEGIN:STANDARD
TZOFFSETFROM:-0700
TZOFFSETTO:-0800
TZNAME:PST
DTSTART:20241103T090000
END:STANDARD
END:VTIMEZONE
BEGIN:VEVENT
DTSTART;TZID=America/Vancouver:20231101T080000
DTEND;TZID=America/Vancouver:20231101T200000
DTSTAMP:20260422T135407
CREATED:20231026T170936Z
LAST-MODIFIED:20231026T182137Z
UID:19193-1698825600-1698868800@tlaztennation.ca
SUMMARY:Youth Chief and Council - Election
DESCRIPTION:
URL:https://tlaztennation.ca/event/youth-chief-and-council-election/
END:VEVENT
BEGIN:VEVENT
DTSTART;TZID=America/Vancouver:20231106T080000
DTEND;TZID=America/Vancouver:20231107T170000
DTSTAMP:20260422T135407
CREATED:20230208T211904Z
LAST-MODIFIED:20230208T211904Z
UID:18630-1699257600-1699376400@tlaztennation.ca
SUMMARY:Chief and Council
DESCRIPTION:
URL:https://tlaztennation.ca/event/chief-and-council-22/
LOCATION:Administration Boardroom
END:VEVENT
BEGIN:VEVENT
DTSTART;TZID=America/Vancouver:20231116T090000
DTEND;TZID=America/Vancouver:20231116T160000
DTSTAMP:20260422T135407
CREATED:20231106T195446Z
LAST-MODIFIED:20231120T221101Z
UID:19229-1700125200-1700150400@tlaztennation.ca
SUMMARY:Band Members Meeting - November 16\, 2023
DESCRIPTION:
URL:https://tlaztennation.ca/event/band-members-meeting-4/
LOCATION:Eugene Joseph Gym
END:VEVENT
BEGIN:VEVENT
DTSTART;TZID=America/Vancouver:20231124T080000
DTEND;TZID=America/Vancouver:20231124T170000
DTSTAMP:20260422T135407
CREATED:20231121T212200Z
LAST-MODIFIED:20231121T212200Z
UID:19298-1700812800-1700845200@tlaztennation.ca
SUMMARY:Pro D Day
DESCRIPTION:
URL:https://tlaztennation.ca/event/pro-d-day-2/
LOCATION:EJES
END:VEVENT
BEGIN:VEVENT
DTSTART;TZID=America/Vancouver:20231126T090000
DTEND;TZID=America/Vancouver:20231126T160000
DTSTAMP:20260422T135407
CREATED:20231121T200213Z
LAST-MODIFIED:20231121T200213Z
UID:19295-1700989200-1701014400@tlaztennation.ca
SUMMARY:Scheduled Power Outage
DESCRIPTION:Fort St. James\nNov 26\, 9:00 a.m.\nNov 26\, 4:00 p.m.\nRescheduled from Sunday\, November 19\, 2023 – Fort St James Area Outage\nFort St James and portions of the Tachie and Vanderhoof areas – includes Apollo Forest Products Bionorth Energy LP\, Apollo Forest Products\, Fuelco\, and Fort St James Forest Products\n2639\nPole replacement\nNov 6\, 6:13 p.m.
URL:https://tlaztennation.ca/event/scheduled-power-outage/
END:VEVENT
BEGIN:VEVENT
DTSTART;TZID=America/Vancouver:20231127T080000
DTEND;TZID=America/Vancouver:20231127T170000
DTSTAMP:20260422T135407
CREATED:20231121T212444Z
LAST-MODIFIED:20231121T212505Z
UID:19300-1701072000-1701104400@tlaztennation.ca
SUMMARY:EJES Elders Tea
DESCRIPTION:
URL:https://tlaztennation.ca/event/ejes-elders-tea/
LOCATION:EJES
END:VEVENT
BEGIN:VEVENT
DTSTART;TZID=America/Vancouver:20231128T080000
DTEND;TZID=America/Vancouver:20231128T170000
DTSTAMP:20260422T135407
CREATED:20230208T211958Z
LAST-MODIFIED:20231123T213541Z
UID:18632-1701158400-1701190800@tlaztennation.ca
SUMMARY:Chief and Council
DESCRIPTION:
URL:https://tlaztennation.ca/event/chief-and-council-23/
LOCATION:Administration Boardroom
END:VEVENT
END:VCALENDAR