BEGIN:VCALENDAR
VERSION:2.0
PRODID:-//Tl&#039;azt&#039;en Nation - ECPv6.15.14//NONSGML v1.0//EN
CALSCALE:GREGORIAN
METHOD:PUBLISH
X-WR-CALNAME:Tl&#039;azt&#039;en Nation
X-ORIGINAL-URL:https://tlaztennation.ca
X-WR-CALDESC:Events for Tl&#039;azt&#039;en Nation
REFRESH-INTERVAL;VALUE=DURATION:PT1H
X-Robots-Tag:noindex
X-PUBLISHED-TTL:PT1H
BEGIN:VTIMEZONE
TZID:America/Vancouver
BEGIN:DAYLIGHT
TZOFFSETFROM:-0800
TZOFFSETTO:-0700
TZNAME:PDT
DTSTART:20230312T100000
END:DAYLIGHT
BEGIN:STANDARD
TZOFFSETFROM:-0700
TZOFFSETTO:-0800
TZNAME:PST
DTSTART:20231105T090000
END:STANDARD
BEGIN:DAYLIGHT
TZOFFSETFROM:-0800
TZOFFSETTO:-0700
TZNAME:PDT
DTSTART:20240310T100000
END:DAYLIGHT
BEGIN:STANDARD
TZOFFSETFROM:-0700
TZOFFSETTO:-0800
TZNAME:PST
DTSTART:20241103T090000
END:STANDARD
BEGIN:DAYLIGHT
TZOFFSETFROM:-0800
TZOFFSETTO:-0700
TZNAME:PDT
DTSTART:20250309T100000
END:DAYLIGHT
BEGIN:STANDARD
TZOFFSETFROM:-0700
TZOFFSETTO:-0800
TZNAME:PST
DTSTART:20251102T090000
END:STANDARD
END:VTIMEZONE
BEGIN:VEVENT
DTSTART;TZID=America/Vancouver:20240402T080000
DTEND;TZID=America/Vancouver:20240524T170000
DTSTAMP:20260422T022236
CREATED:20240320T162917Z
LAST-MODIFIED:20240320T184149Z
UID:19551-1712044800-1716570000@tlaztennation.ca
SUMMARY:Bladerunners
DESCRIPTION:
URL:https://tlaztennation.ca/event/bladerunners/
END:VEVENT
BEGIN:VEVENT
DTSTART;TZID=America/Vancouver:20240501T080000
DTEND;TZID=America/Vancouver:20240501T170000
DTSTAMP:20260422T022236
CREATED:20240320T163616Z
LAST-MODIFIED:20240320T163616Z
UID:19555-1714550400-1714582800@tlaztennation.ca
SUMMARY:Post Secondary September Intake Deadline
DESCRIPTION:
URL:https://tlaztennation.ca/event/post-secondary-september-intake-deadline-2/
END:VEVENT
BEGIN:VEVENT
DTSTART;TZID=America/Vancouver:20240502T130000
DTEND;TZID=America/Vancouver:20240502T153000
DTSTAMP:20260422T022236
CREATED:20240501T184017Z
LAST-MODIFIED:20240501T184017Z
UID:19682-1714654800-1714663800@tlaztennation.ca
SUMMARY:Community Healing Fire
DESCRIPTION:
URL:https://tlaztennation.ca/event/community-healing-fire/
LOCATION:Health Centre
END:VEVENT
BEGIN:VEVENT
DTSTART;TZID=America/Vancouver:20240505T110000
DTEND;TZID=America/Vancouver:20240505T140000
DTSTAMP:20260422T022236
CREATED:20240501T173047Z
LAST-MODIFIED:20240501T173213Z
UID:19658-1714906800-1714917600@tlaztennation.ca
SUMMARY:MMIP Event - ‘Utsoo Ooyoh - Grandma’s House
DESCRIPTION:
URL:https://tlaztennation.ca/event/mmip-event-utsoo-ooyoh-grandmas-house/
LOCATION:Utsoo Ooyoh
END:VEVENT
BEGIN:VEVENT
DTSTART;TZID=America/Vancouver:20240506T103000
DTEND;TZID=America/Vancouver:20240506T140000
DTSTAMP:20260422T022236
CREATED:20240501T173800Z
LAST-MODIFIED:20240501T173800Z
UID:19661-1714991400-1715004000@tlaztennation.ca
SUMMARY:Forestry Stewardship Strategy - Community Update
DESCRIPTION:
URL:https://tlaztennation.ca/event/forestry-stewardship-strategy-community-update/
LOCATION:Utsoo Ooyoh
END:VEVENT
BEGIN:VEVENT
DTSTART;TZID=America/Vancouver:20240512T090000
DTEND;TZID=America/Vancouver:20240512T120000
DTSTAMP:20260422T022236
CREATED:20240422T180545Z
LAST-MODIFIED:20240422T180758Z
UID:19615-1715504400-1715515200@tlaztennation.ca
SUMMARY:Mothers Day Breakfast
DESCRIPTION:
URL:https://tlaztennation.ca/event/mothers-day-breakfast/
LOCATION:Eugene Joseph Gym
END:VEVENT
BEGIN:VEVENT
DTSTART;TZID=America/Vancouver:20240515T100000
DTEND;TZID=America/Vancouver:20240515T130000
DTSTAMP:20260422T022236
CREATED:20240501T180718Z
LAST-MODIFIED:20240501T180803Z
UID:19665-1715767200-1715778000@tlaztennation.ca
SUMMARY:Elder Abuse Awareness and Prevention
DESCRIPTION:
URL:https://tlaztennation.ca/event/elder-abuse-awareness-and-prevention/
LOCATION:Eugene Joseph Gym
END:VEVENT
BEGIN:VEVENT
DTSTART;TZID=America/Vancouver:20240516T100000
DTEND;TZID=America/Vancouver:20240516T150000
DTSTAMP:20260422T022236
CREATED:20240501T181552Z
LAST-MODIFIED:20240501T181552Z
UID:19670-1715853600-1715871600@tlaztennation.ca
SUMMARY:Victims Safety and Prevention Fair
DESCRIPTION:
URL:https://tlaztennation.ca/event/victims-safety-and-prevention-fair/
LOCATION:Eugene Joseph Gym
END:VEVENT
BEGIN:VEVENT
DTSTART;TZID=America/Vancouver:20240517T100000
DTEND;TZID=America/Vancouver:20240517T150000
DTSTAMP:20260422T022236
CREATED:20240501T182137Z
LAST-MODIFIED:20240501T182137Z
UID:19673-1715940000-1715958000@tlaztennation.ca
SUMMARY:Victim and Community Empowerment
DESCRIPTION:
URL:https://tlaztennation.ca/event/victim-and-community-empowerment/
LOCATION:Eugene Joseph Gym
END:VEVENT
BEGIN:VEVENT
DTSTART;TZID=America/Vancouver:20240528T090000
DTEND;TZID=America/Vancouver:20240528T170000
DTSTAMP:20260422T022236
CREATED:20240527T160806Z
LAST-MODIFIED:20240527T160806Z
UID:19714-1716886800-1716915600@tlaztennation.ca
SUMMARY:Band Members Meeting
DESCRIPTION:
URL:https://tlaztennation.ca/event/band-members-meeting-6/
LOCATION:Eugene Joseph Gym
END:VEVENT
END:VCALENDAR